BEGIN:VCALENDAR
VERSION:2.0
PRODID:-//Witchcraft Heights Elementary School - ECPv6.15.18//NONSGML v1.0//EN
CALSCALE:GREGORIAN
METHOD:PUBLISH
X-WR-CALNAME:Witchcraft Heights Elementary School
X-ORIGINAL-URL:https://spswhes.salemk12.org
X-WR-CALDESC:Events for Witchcraft Heights Elementary School
REFRESH-INTERVAL;VALUE=DURATION:PT1H
X-Robots-Tag:noindex
X-PUBLISHED-TTL:PT1H
BEGIN:VTIMEZONE
TZID:America/New_York
BEGIN:DAYLIGHT
TZOFFSETFROM:-0500
TZOFFSETTO:-0400
TZNAME:EDT
DTSTART:20200308T070000
END:DAYLIGHT
BEGIN:STANDARD
TZOFFSETFROM:-0400
TZOFFSETTO:-0500
TZNAME:EST
DTSTART:20201101T060000
END:STANDARD
BEGIN:DAYLIGHT
TZOFFSETFROM:-0500
TZOFFSETTO:-0400
TZNAME:EDT
DTSTART:20210314T070000
END:DAYLIGHT
BEGIN:STANDARD
TZOFFSETFROM:-0400
TZOFFSETTO:-0500
TZNAME:EST
DTSTART:20211107T060000
END:STANDARD
BEGIN:DAYLIGHT
TZOFFSETFROM:-0500
TZOFFSETTO:-0400
TZNAME:EDT
DTSTART:20220313T070000
END:DAYLIGHT
BEGIN:STANDARD
TZOFFSETFROM:-0400
TZOFFSETTO:-0500
TZNAME:EST
DTSTART:20221106T060000
END:STANDARD
END:VTIMEZONE
BEGIN:VEVENT
DTSTART;VALUE=DATE:20211224
DTEND;VALUE=DATE:20220101
DTSTAMP:20260420T034023
CREATED:20211214T174005Z
LAST-MODIFIED:20211231T211336Z
UID:1291-1640304000-1640995199@spswhes.salemk12.org
SUMMARY:No School Holiday Break
DESCRIPTION:
URL:https://spswhes.salemk12.org/event/no-school-holiday-break/
CATEGORIES:District
END:VEVENT
BEGIN:VEVENT
DTSTART;VALUE=DATE:20211223
DTEND;VALUE=DATE:20211224
DTSTAMP:20260420T034023
CREATED:20211214T174005Z
LAST-MODIFIED:20211223T210015Z
UID:1292-1640217600-1640303999@spswhes.salemk12.org
SUMMARY:Carlton only No School
DESCRIPTION:
URL:https://spswhes.salemk12.org/event/carlton-only-no-school/
CATEGORIES:District
END:VEVENT
BEGIN:VEVENT
DTSTART;TZID=America/New_York:20211221T190000
DTEND;TZID=America/New_York:20211221T203000
DTSTAMP:20260420T034023
CREATED:20211214T174005Z
LAST-MODIFIED:20211216T231413Z
UID:1290-1640113200-1640118600@spswhes.salemk12.org
SUMMARY:ALL CITY 5th grade Winter Concert
DESCRIPTION:
URL:https://spswhes.salemk12.org/event/all-city-5th-grade-winter-concert/
CATEGORIES:District
END:VEVENT
BEGIN:VEVENT
DTSTART;TZID=America/New_York:20211220T190000
DTEND;TZID=America/New_York:20211220T210000
DTSTAMP:20260420T034023
CREATED:20211214T174005Z
LAST-MODIFIED:20211216T231413Z
UID:1289-1640026800-1640034000@spswhes.salemk12.org
SUMMARY:School Committee Meeting
DESCRIPTION:
URL:https://spswhes.salemk12.org/event/school-committee-meeting/
CATEGORIES:District
END:VEVENT
BEGIN:VEVENT
DTSTART;TZID=America/New_York:20211220T190000
DTEND;TZID=America/New_York:20211220T203000
DTSTAMP:20260420T034023
CREATED:20211214T174005Z
LAST-MODIFIED:20211216T231413Z
UID:1288-1640026800-1640032200@spswhes.salemk12.org
SUMMARY:Salem Community Band Winter Concert
DESCRIPTION:
URL:https://spswhes.salemk12.org/event/salem-community-band-winter-concert/
CATEGORIES:District
END:VEVENT
BEGIN:VEVENT
DTSTART;TZID=America/New_York:20211216T170000
DTEND;TZID=America/New_York:20211216T190000
DTSTAMP:20260420T034023
CREATED:20211215T174412Z
LAST-MODIFIED:20211216T174413Z
UID:1332-1639674000-1639681200@spswhes.salemk12.org
SUMMARY:Winter Festival
DESCRIPTION:Come for a fun-filled evening of arts & crafts and visit the Book Fair. Also\, dress in your cozy pajamas\, bring a stuffed animal\, and snuggle up as the fabulous Mr. Collins reads The Polar Express.\nVenga a disfrutar de una noche llena de diversión de artes y manualidades y visite la Feria del Libro. Además\, vístase con sus cómodos pijamas\, traiga un animal de peluche y acurrúquese mientras el fabuloso Sr. Collins lee The Polar Express.
URL:https://spswhes.salemk12.org/event/winter-festiva/
LOCATION:Witchcraft Heights Elementary School\, 1 Frederick St\, Salem\, MA 01970\, USA
CATEGORIES:Witchcraft Heights Elementary School
END:VEVENT
BEGIN:VEVENT
DTSTART;TZID=America/New_York:20211215T190000
DTEND;TZID=America/New_York:20211215T203000
DTSTAMP:20260420T034023
CREATED:20211214T174005Z
LAST-MODIFIED:20211215T231418Z
UID:1287-1639594800-1639600200@spswhes.salemk12.org
SUMMARY:SHS Winter Concert
DESCRIPTION:
URL:https://spswhes.salemk12.org/event/shs-winter-concert/
CATEGORIES:District
END:VEVENT
END:VCALENDAR