BEGIN:VCALENDAR
VERSION:2.0
PRODID:-//Witchcraft Heights Elementary School - ECPv6.15.18//NONSGML v1.0//EN
CALSCALE:GREGORIAN
METHOD:PUBLISH
X-WR-CALNAME:Witchcraft Heights Elementary School
X-ORIGINAL-URL:https://spswhes.salemk12.org
X-WR-CALDESC:Events for Witchcraft Heights Elementary School
REFRESH-INTERVAL;VALUE=DURATION:PT1H
X-Robots-Tag:noindex
X-PUBLISHED-TTL:PT1H
BEGIN:VTIMEZONE
TZID:America/New_York
BEGIN:DAYLIGHT
TZOFFSETFROM:-0500
TZOFFSETTO:-0400
TZNAME:EDT
DTSTART:20210314T070000
END:DAYLIGHT
BEGIN:STANDARD
TZOFFSETFROM:-0400
TZOFFSETTO:-0500
TZNAME:EST
DTSTART:20211107T060000
END:STANDARD
BEGIN:DAYLIGHT
TZOFFSETFROM:-0500
TZOFFSETTO:-0400
TZNAME:EDT
DTSTART:20220313T070000
END:DAYLIGHT
BEGIN:STANDARD
TZOFFSETFROM:-0400
TZOFFSETTO:-0500
TZNAME:EST
DTSTART:20221106T060000
END:STANDARD
BEGIN:DAYLIGHT
TZOFFSETFROM:-0500
TZOFFSETTO:-0400
TZNAME:EDT
DTSTART:20230312T070000
END:DAYLIGHT
BEGIN:STANDARD
TZOFFSETFROM:-0400
TZOFFSETTO:-0500
TZNAME:EST
DTSTART:20231105T060000
END:STANDARD
END:VTIMEZONE
BEGIN:VEVENT
DTSTART;VALUE=DATE:20220512
DTEND;VALUE=DATE:20220513
DTSTAMP:20260419T185443
CREATED:20220401T211438Z
LAST-MODIFIED:20220512T221411Z
UID:1838-1652313600-1652399999@spswhes.salemk12.org
SUMMARY:Math Mcas 5th grade
DESCRIPTION:
URL:https://spswhes.salemk12.org/event/math-mcas-5th-grade/
CATEGORIES:Witchcraft Heights Elementary School
END:VEVENT
BEGIN:VEVENT
DTSTART;VALUE=DATE:20220512
DTEND;VALUE=DATE:20220513
DTSTAMP:20260419T185443
CREATED:20220401T211438Z
LAST-MODIFIED:20220512T221411Z
UID:1836-1652313600-1652399999@spswhes.salemk12.org
SUMMARY:Kindergarten Field trip to Appleton Farm (tentative)
DESCRIPTION:
URL:https://spswhes.salemk12.org/event/kindergarten-field-trip-to-appleton-farm-tentative/
CATEGORIES:Witchcraft Heights Elementary School
END:VEVENT
BEGIN:VEVENT
DTSTART;VALUE=DATE:20220511
DTEND;VALUE=DATE:20220512
DTSTAMP:20260419T185443
CREATED:20220401T211438Z
LAST-MODIFIED:20220511T221413Z
UID:1835-1652227200-1652313599@spswhes.salemk12.org
SUMMARY:Math Mcas 4th grade
DESCRIPTION:
URL:https://spswhes.salemk12.org/event/math-mcas-4th-grade-2/
CATEGORIES:Witchcraft Heights Elementary School
END:VEVENT
BEGIN:VEVENT
DTSTART;VALUE=DATE:20220510
DTEND;VALUE=DATE:20220511
DTSTAMP:20260419T185443
CREATED:20220401T211426Z
LAST-MODIFIED:20220510T221413Z
UID:1834-1652140800-1652227199@spswhes.salemk12.org
SUMMARY:Math Mcas 4th Grade
DESCRIPTION:
URL:https://spswhes.salemk12.org/event/math-mcas-4th-grade/
CATEGORIES:Witchcraft Heights Elementary School
END:VEVENT
BEGIN:VEVENT
DTSTART;TZID=America/New_York:20220504T180000
DTEND;TZID=America/New_York:20220504T200000
DTSTAMP:20260419T185443
CREATED:20211214T174042Z
LAST-MODIFIED:20220504T232958Z
UID:1319-1651687200-1651694400@spswhes.salemk12.org
SUMMARY:All City Chorus\, Band\, and Orchestra Concert
DESCRIPTION:
URL:https://spswhes.salemk12.org/event/all-city-chorus-band-and-orchestra-concert/
CATEGORIES:District
END:VEVENT
BEGIN:VEVENT
DTSTART;TZID=America/New_York:20220504T180000
DTEND;TZID=America/New_York:20220504T190000
DTSTAMP:20260419T185443
CREATED:20220401T211426Z
LAST-MODIFIED:20220504T220013Z
UID:1833-1651687200-1651690800@spswhes.salemk12.org
SUMMARY:All City Chorus
DESCRIPTION:
URL:https://spswhes.salemk12.org/event/all-city-chorus/
CATEGORIES:Witchcraft Heights Elementary School
END:VEVENT
BEGIN:VEVENT
DTSTART;VALUE=DATE:20220504
DTEND;VALUE=DATE:20220505
DTSTAMP:20260419T185443
CREATED:20220425T213014Z
LAST-MODIFIED:20220504T220013Z
UID:1951-1651622400-1651708799@spswhes.salemk12.org
SUMMARY:Red Nose Day
DESCRIPTION:Jar Wars Day\, bring in your spare change to help donate to Children’s Charity.
URL:https://spswhes.salemk12.org/event/red-nose-day/
CATEGORIES:Witchcraft Heights Elementary School
END:VEVENT
BEGIN:VEVENT
DTSTART;TZID=America/New_York:20220502T190000
DTEND;TZID=America/New_York:20220502T210000
DTSTAMP:20260419T185443
CREATED:20211214T174042Z
LAST-MODIFIED:20220429T230015Z
UID:1318-1651518000-1651525200@spswhes.salemk12.org
SUMMARY:School Committee Meeting
DESCRIPTION:
URL:https://spswhes.salemk12.org/event/school-committee-meeting-10/
CATEGORIES:District
END:VEVENT
BEGIN:VEVENT
DTSTART;VALUE=DATE:20220429
DTEND;VALUE=DATE:20220430
DTSTAMP:20260419T185443
CREATED:20220330T211424Z
LAST-MODIFIED:20220429T213014Z
UID:1807-1651190400-1651276799@spswhes.salemk12.org
SUMMARY:1st Grade Field Trip to Appleton Farms (2 classes)
DESCRIPTION:
URL:https://spswhes.salemk12.org/event/1st-grade-field-trip-to-appleton-farms-2-classes-2/
CATEGORIES:Witchcraft Heights Elementary School
END:VEVENT
BEGIN:VEVENT
DTSTART;VALUE=DATE:20220428
DTEND;VALUE=DATE:20220429
DTSTAMP:20260419T185443
CREATED:20220330T211424Z
LAST-MODIFIED:20220428T213014Z
UID:1808-1651104000-1651190399@spswhes.salemk12.org
SUMMARY:April Harvest of the Month Taste Test during lunches: potatoes
DESCRIPTION:
URL:https://spswhes.salemk12.org/event/april-harvest-of-the-month-taste-test-during-lunches-potatoes/
CATEGORIES:Witchcraft Heights Elementary School
END:VEVENT
BEGIN:VEVENT
DTSTART;VALUE=DATE:20220427
DTEND;VALUE=DATE:20220428
DTSTAMP:20260419T185443
CREATED:20220330T211424Z
LAST-MODIFIED:20220427T213014Z
UID:1804-1651017600-1651103999@spswhes.salemk12.org
SUMMARY:1st Grade Field Trip to Appleton Farms  (2 classes)
DESCRIPTION:
URL:https://spswhes.salemk12.org/event/1st-grade-field-trip-to-appleton-farms-2-classes/
CATEGORIES:Witchcraft Heights Elementary School
END:VEVENT
BEGIN:VEVENT
DTSTART;VALUE=DATE:20220426
DTEND;VALUE=DATE:20220427
DTSTAMP:20260419T185443
CREATED:20220330T211424Z
LAST-MODIFIED:20220426T213014Z
UID:1805-1650931200-1651017599@spswhes.salemk12.org
SUMMARY:4th grade Field Trip to Essex Technical HS (Connolly/Sullivan)
DESCRIPTION:
URL:https://spswhes.salemk12.org/event/4th-grade-field-trip-to-essex-technical-hs-ginley-linehan/
CATEGORIES:Witchcraft Heights Elementary School
END:VEVENT
BEGIN:VEVENT
DTSTART;TZID=America/New_York:20220425T190000
DTEND;TZID=America/New_York:20220425T210000
DTSTAMP:20260419T185443
CREATED:20211214T174030Z
LAST-MODIFIED:20220425T224354Z
UID:1317-1650913200-1650920400@spswhes.salemk12.org
SUMMARY:School Committee Meeting
DESCRIPTION:
URL:https://spswhes.salemk12.org/event/school-committee-meeting-9/
CATEGORIES:District
END:VEVENT
BEGIN:VEVENT
DTSTART;VALUE=DATE:20220425
DTEND;VALUE=DATE:20220426
DTSTAMP:20260419T185443
CREATED:20220330T211424Z
LAST-MODIFIED:20220425T213014Z
UID:1806-1650844800-1650931199@spswhes.salemk12.org
SUMMARY:4th grade Field Trip to Essex Technical HS (Ginley/Linenhan)
DESCRIPTION:
URL:https://spswhes.salemk12.org/event/4th-grade-field-trip-to-essex-technical-hs-connolly-mccarron/
CATEGORIES:Witchcraft Heights Elementary School
END:VEVENT
BEGIN:VEVENT
DTSTART;VALUE=DATE:20220418
DTEND;VALUE=DATE:20220423
DTSTAMP:20260419T185443
CREATED:20211216T174413Z
LAST-MODIFIED:20220311T203015Z
UID:1402-1650240000-1650671999@spswhes.salemk12.org
SUMMARY:April Vacation-No School
DESCRIPTION:
URL:https://spswhes.salemk12.org/event/april-vacation-no-school/
CATEGORIES:Witchcraft Heights Elementary School
END:VEVENT
BEGIN:VEVENT
DTSTART;VALUE=DATE:20220415
DTEND;VALUE=DATE:20220416
DTSTAMP:20260419T185443
CREATED:20220330T211412Z
LAST-MODIFIED:20220415T211410Z
UID:1800-1649980800-1650067199@spswhes.salemk12.org
SUMMARY:Good Friday\, no school
DESCRIPTION:
URL:https://spswhes.salemk12.org/event/good-friday-no-school-2/
CATEGORIES:Witchcraft Heights Elementary School
END:VEVENT
BEGIN:VEVENT
DTSTART;VALUE=DATE:20220415
DTEND;VALUE=DATE:20220416
DTSTAMP:20260419T185443
CREATED:20211216T174413Z
LAST-MODIFIED:20220311T203015Z
UID:1401-1649980800-1650067199@spswhes.salemk12.org
SUMMARY:Good Friday-No School
DESCRIPTION:
URL:https://spswhes.salemk12.org/event/good-friday-no-school/
CATEGORIES:Witchcraft Heights Elementary School
END:VEVENT
BEGIN:VEVENT
DTSTART;VALUE=DATE:20220414
DTEND;VALUE=DATE:20220415
DTSTAMP:20260419T185443
CREATED:20220330T211424Z
LAST-MODIFIED:20220414T211413Z
UID:1801-1649894400-1649980799@spswhes.salemk12.org
SUMMARY:Penny Wars ends
DESCRIPTION:
URL:https://spswhes.salemk12.org/event/penny-wars-ends/
CATEGORIES:Witchcraft Heights Elementary School
END:VEVENT
BEGIN:VEVENT
DTSTART;VALUE=DATE:20220414
DTEND;VALUE=DATE:20220415
DTSTAMP:20260419T185443
CREATED:20220330T211424Z
LAST-MODIFIED:20220414T211413Z
UID:1802-1649894400-1649980799@spswhes.salemk12.org
SUMMARY:ELA MCAS Make-ups
DESCRIPTION:
URL:https://spswhes.salemk12.org/event/ela-mcas-make-ups/
CATEGORIES:Witchcraft Heights Elementary School
END:VEVENT
BEGIN:VEVENT
DTSTART;VALUE=DATE:20220413
DTEND;VALUE=DATE:20220414
DTSTAMP:20260419T185443
CREATED:20220330T211424Z
LAST-MODIFIED:20220413T211414Z
UID:1803-1649808000-1649894399@spswhes.salemk12.org
SUMMARY:ELA MCAS Make-ups
DESCRIPTION:
URL:https://spswhes.salemk12.org/event/ela-mcas-make-ups-2/
CATEGORIES:Witchcraft Heights Elementary School
END:VEVENT
BEGIN:VEVENT
DTSTART;VALUE=DATE:20220412
DTEND;VALUE=DATE:20220413
DTSTAMP:20260419T185443
CREATED:20220330T211412Z
LAST-MODIFIED:20220412T211413Z
UID:1798-1649721600-1649807999@spswhes.salemk12.org
SUMMARY:ELA MCAS 5th Grade Session 2
DESCRIPTION:
URL:https://spswhes.salemk12.org/event/ela-mcas-5th-grade-session-2/
CATEGORIES:Witchcraft Heights Elementary School
END:VEVENT
BEGIN:VEVENT
DTSTART;VALUE=DATE:20220411
DTEND;VALUE=DATE:20220412
DTSTAMP:20260419T185443
CREATED:20220330T211412Z
LAST-MODIFIED:20220411T211413Z
UID:1799-1649635200-1649721599@spswhes.salemk12.org
SUMMARY:ELA MCAS 5th Grade Session 1
DESCRIPTION:
URL:https://spswhes.salemk12.org/event/ela-mcas-5th-grade-session-1/
CATEGORIES:Witchcraft Heights Elementary School
END:VEVENT
BEGIN:VEVENT
DTSTART;VALUE=DATE:20220408
DTEND;VALUE=DATE:20220409
DTSTAMP:20260419T185443
CREATED:20220330T211412Z
LAST-MODIFIED:20220408T211411Z
UID:1797-1649376000-1649462399@spswhes.salemk12.org
SUMMARY:ELA MCAS 4th Grade Session 2
DESCRIPTION:
URL:https://spswhes.salemk12.org/event/ela-mcas-4th-grade-session-2/
CATEGORIES:Witchcraft Heights Elementary School
END:VEVENT
BEGIN:VEVENT
DTSTART;VALUE=DATE:20220407
DTEND;VALUE=DATE:20220408
DTSTAMP:20260419T185443
CREATED:20220330T211412Z
LAST-MODIFIED:20220407T211412Z
UID:1793-1649289600-1649375999@spswhes.salemk12.org
SUMMARY:ELA MCAS 4th Session 1
DESCRIPTION:
URL:https://spswhes.salemk12.org/event/ela-mcas-4th-session-1/
CATEGORIES:Witchcraft Heights Elementary School
END:VEVENT
BEGIN:VEVENT
DTSTART;VALUE=DATE:20220406
DTEND;VALUE=DATE:20220407
DTSTAMP:20260419T185443
CREATED:20220330T211412Z
LAST-MODIFIED:20220406T211414Z
UID:1794-1649203200-1649289599@spswhes.salemk12.org
SUMMARY:ELA MCAS 3rd Grade Session 2
DESCRIPTION:
URL:https://spswhes.salemk12.org/event/ela-mcas-3rd-grade-session-2/
CATEGORIES:Witchcraft Heights Elementary School
END:VEVENT
BEGIN:VEVENT
DTSTART;TZID=America/New_York:20220405T183000
DTEND;TZID=America/New_York:20220405T200000
DTSTAMP:20260419T185443
CREATED:20220324T234412Z
LAST-MODIFIED:20220404T220012Z
UID:1776-1649183400-1649188800@spswhes.salemk12.org
SUMMARY:Community Budget Forum @ Saltonstall
DESCRIPTION:
URL:https://spswhes.salemk12.org/event/community-budget-forum-saltonstall/
CATEGORIES:District
END:VEVENT
BEGIN:VEVENT
DTSTART;TZID=America/New_York:20220405T183000
DTEND;TZID=America/New_York:20220405T193000
DTSTAMP:20260419T185443
CREATED:20220330T211412Z
LAST-MODIFIED:20220405T211415Z
UID:1796-1649183400-1649187000@spswhes.salemk12.org
SUMMARY:PTO MCAS Overview
DESCRIPTION:
URL:https://spswhes.salemk12.org/event/pto-mcas-overview/
CATEGORIES:Witchcraft Heights Elementary School
END:VEVENT
BEGIN:VEVENT
DTSTART;VALUE=DATE:20220405
DTEND;VALUE=DATE:20220406
DTSTAMP:20260419T185443
CREATED:20220330T211412Z
LAST-MODIFIED:20220405T211415Z
UID:1795-1649116800-1649203199@spswhes.salemk12.org
SUMMARY:ELA MCAS 3rd Grade  Session 1
DESCRIPTION:
URL:https://spswhes.salemk12.org/event/ela-mcas-3rd-grade-session-1/
CATEGORIES:Witchcraft Heights Elementary School
END:VEVENT
BEGIN:VEVENT
DTSTART;TZID=America/New_York:20220404T190000
DTEND;TZID=America/New_York:20220404T210000
DTSTAMP:20260419T185443
CREATED:20211214T174030Z
LAST-MODIFIED:20220404T220012Z
UID:1316-1649098800-1649106000@spswhes.salemk12.org
SUMMARY:School Committee Meeting
DESCRIPTION:
URL:https://spswhes.salemk12.org/event/school-committee-meeting-8/
CATEGORIES:District
END:VEVENT
BEGIN:VEVENT
DTSTART;TZID=America/New_York:20220404T190000
DTEND;TZID=America/New_York:20220404T200000
DTSTAMP:20260419T185443
CREATED:20220330T211412Z
LAST-MODIFIED:20220404T211342Z
UID:1792-1649098800-1649102400@spswhes.salemk12.org
SUMMARY:WHES Student Showcase @ School Committee Meeting
DESCRIPTION:
URL:https://spswhes.salemk12.org/event/whes-student-showcase-school-committee-meeting/
CATEGORIES:Witchcraft Heights Elementary School
END:VEVENT
END:VCALENDAR